BEGIN:VCALENDAR
VERSION:2.0
PRODID:-//eventon.com NONSGML v1.0//EN
CALSCALE:GREGORIAN
METHOD:PUBLISH
BEGIN:VEVENT
UID:69e74298ce01a
DTSTAMP:20260421T092544Z
DTSTART:20170509T190000Z
DTEND:20170509T200000Z
LOCATION:Barnes &amp; Noble Edina 3230 Galleria\,  Edina\,  MN\,  55435
SUMMARY:Barnes & Noble Edina
DESCRIPTION:Brian returns to Barnes &amp; Noble in the Galleria to introduc
 e his newest Duluth-based Jonathan Stride novel\,  MARATHON. He&#8217;ll ta
 lk about and read from the new book and answer all your questions. Be sure 
 to pick up a signed copy!\nhttps://bfreemanbooks.com/events/barnes-noble-ed
 ina/
URL:https://bfreemanbooks.com/events/barnes-noble-edina/
END:VEVENT
END:VCALENDAR