BEGIN:VCALENDAR
VERSION:2.0
PRODID:-//eventon.com NONSGML v1.0//EN
CALSCALE:GREGORIAN
METHOD:PUBLISH
BEGIN:VEVENT
UID:69e7312773ad4
DTSTAMP:20260421T081119Z
DTSTART:20170508T180000Z
DTEND:20170508T190000Z
LOCATION:Barnes &amp; Noble Maple Grove 8040 Wedgewood Lane\,  Maple Grove\,  MN\,  55369
SUMMARY:Barnes & Noble Maple Grove
DESCRIPTION:Brian returns to Barnes &amp; Noble in Maple Grove to give a sp
 ecial Twin Cities presentation of his slide show STRIDE&#8217;S DULUTH. He&
 #8217;ll also introduce his newest Duluth-based Jonathan Stride novel\,  MA
 RATHON\,  and answer all your questions. Be sure to pick up a signed copy!
 \nhttps://bfreemanbooks.com/events/barnes-noble-maple-grove/
URL:https://bfreemanbooks.com/events/barnes-noble-maple-grove/
END:VEVENT
END:VCALENDAR