BEGIN:VCALENDAR
VERSION:2.0
PRODID:-//eventon.com NONSGML v1.0//EN
CALSCALE:GREGORIAN
METHOD:PUBLISH
BEGIN:VEVENT
UID:69e9d7a070664
DTSTAMP:20260423T082608Z
DTSTART:20170504T190000Z
DTEND:20170504T200000Z
LOCATION:Barnes &amp; Noble Har Mar 2100 Snelling Avenue\,  Saint Paul\,  MN\,  55113
SUMMARY:Barnes & Noble Har Mar
DESCRIPTION:Join Brian as he introduces his new Duluth-based Jonathan Strid
 e novel\,  MARATHON.  He&#8217;ll talk about and read from the new book an
 d answer all your questions.  Be sure to pick up a signed copy!\nhttps://b
 freemanbooks.com/events/barnes-noble-har-mar/
URL:https://bfreemanbooks.com/events/barnes-noble-har-mar/
END:VEVENT
END:VCALENDAR