BEGIN:VCALENDAR
VERSION:2.0
PRODID:-//eventon.com NONSGML v1.0//EN
CALSCALE:GREGORIAN
METHOD:PUBLISH
BEGIN:VEVENT
UID:69e74508a376a
DTSTAMP:20260421T093608Z
DTSTART:20170503T190000Z
DTEND:20170503T200000Z
LOCATION:Once Upon a Crime 604 W 26th St\,  Minneapolis\,  MN 55405
SUMMARY:Once Upon a Crime
DESCRIPTION:Join Brian at the award-winning Once Upon a Crime mystery books
 tore as he introduces his latest Duluth-based Jonathan Stride novel\,  MARA
 THON. Have a glass of wine and get a signed copy of the new book!\nhttps://
 bfreemanbooks.com/events/once-upon-a-crime-2/
URL:https://bfreemanbooks.com/events/once-upon-a-crime-2/
END:VEVENT
END:VCALENDAR