BEGIN:VCALENDAR
VERSION:2.0
PRODID:-//eventon.com NONSGML v1.0//EN
CALSCALE:GREGORIAN
METHOD:PUBLISH
BEGIN:VEVENT
UID:69e75796e6136
DTSTAMP:20260421T105518Z
DTSTART:20170502T180000Z
DTEND:20170502T193000Z
LOCATION:Barnes &amp; Noble Duluth 1600 Miller Trunk Highway\,  Duluth\,  MN\,  55811
SUMMARY:Barnes & Noble Duluth
DESCRIPTION:Join Brian in &#8220;Stride Country&#8221; for the official lau
 nch of his new Duluth-based Jonathan Stride novel\,  MARATHON.  He&#8217;l
 l be at the Barnes &amp; Noble in Miller Hill Mall talking about and readin
 g from the new book and taking your questions.  Get your signed copy on re
 lease day!\nhttps://bfreemanbooks.com/events/barnes-noble-duluth/
URL:https://bfreemanbooks.com/events/barnes-noble-duluth/
END:VEVENT
END:VCALENDAR