BEGIN:VCALENDAR
VERSION:2.0
PRODID:-//eventon.com NONSGML v1.0//EN
CALSCALE:GREGORIAN
METHOD:PUBLISH
BEGIN:VEVENT
UID:69e7694600caf
DTSTAMP:20260421T121046Z
DTSTART:20170403T120000Z
DTEND:20170403T130000Z
LOCATION:Brainerd Library 416 S 5th St\,  Brainerd\,  MN\,  56401
SUMMARY:Brainerd Library
DESCRIPTION:Brian is back at the Brainerd Library for another presentation 
 in their &#8220;Brown Bag&#8221; lunch series.  Join him to hear about his
  two latest books\,  THE NIGHT BIRD and the new Jonathan Stride novel\,  MA
 RATHON.\nhttps://bfreemanbooks.com/events/brainerd-library/
URL:https://bfreemanbooks.com/events/brainerd-library/
END:VEVENT
END:VCALENDAR