BEGIN:VCALENDAR
VERSION:2.0
PRODID:-//eventon.com NONSGML v1.0//EN
CALSCALE:GREGORIAN
METHOD:PUBLISH
BEGIN:VEVENT
UID:69e7b90b47be8
DTSTAMP:20260421T175107Z
DTSTART:20170225T103000Z
DTEND:20170225T120000Z
LOCATION:Princeton Community Library 100 4th Avenue S\,  Princeton\,  MN 55371
SUMMARY:Princeton Library
DESCRIPTION:Join Brian for a presentation of his special slide show STRIDEâ
 €™S DULUTH\,  profiling real-life places in the Northland that have been fe
 atured in his thrillers. Youâ€™ll never look at Duluth the same way again! 
 Be sure to pick up a signed copy of his newest thriller THE NIGHT BIRD\,  a
 nd[..]\nhttps://bfreemanbooks.com/events/princeton-library/
URL:https://bfreemanbooks.com/events/princeton-library/
END:VEVENT
END:VCALENDAR