BEGIN:VCALENDAR
VERSION:2.0
PRODID:-//eventon.com NONSGML v1.0//EN
CALSCALE:GREGORIAN
METHOD:PUBLISH
BEGIN:VEVENT
UID:69e7a6bb6cf5f
DTSTAMP:20260421T163259Z
DTSTART:20170420T183000Z
DTEND:20170420T200000Z
LOCATION:Aitkin Public Library 110 First Avenue NE\,  Aitkin\,  MN 56431
SUMMARY:Aitkin Library
DESCRIPTION:NEW DATE! Join Brian for a presentation of his special slide sh
 ow STRIDE’S DULUTH\,  profiling real-life places in the Northland that ha
 ve been featured in his thrillers. You’ll never look at Duluth the same w
 ay again! Be sure to pick up a signed copy of his newest thriller THE NIGHT
 [..]\nhttps://bfreemanbooks.com/events/aitkin-library/
URL:https://bfreemanbooks.com/events/aitkin-library/
END:VEVENT
END:VCALENDAR