BEGIN:VCALENDAR
VERSION:2.0
PRODID:-//eventon.com NONSGML v1.0//EN
CALSCALE:GREGORIAN
METHOD:PUBLISH
BEGIN:VEVENT
UID:69e791e069fa5
DTSTAMP:20260421T150400Z
DTSTART:20170221T183000Z
DTEND:20170221T200000Z
LOCATION:North Branch Area Library 6355 379th Street\,  North Branch\,  MN 55056
SUMMARY:North Branch Library
DESCRIPTION:Join Brian for a presentation of his special slide show STRIDEâ
 €™S DULUTH\,  profiling real-life places in the Northland that have been fe
 atured in his thrillers. Youâ€™ll never look at Duluth the same way again! 
 Be sure to pick up a signed copy of his newest thriller THE NIGHT BIRD\,  a
 nd[..]\nhttps://bfreemanbooks.com/events/north-branch-library/
URL:https://bfreemanbooks.com/events/north-branch-library/
END:VEVENT
END:VCALENDAR