BEGIN:VCALENDAR
VERSION:2.0
PRODID:-//eventon.com NONSGML v1.0//EN
CALSCALE:GREGORIAN
METHOD:PUBLISH
BEGIN:VEVENT
UID:69e7693c1a2b4
DTSTAMP:20260421T121036Z
DTSTART:20170216T183000Z
DTEND:20170216T200000Z
LOCATION:Mora Public Library 200 Maple Avenue West\,  Mora\,  MN 55051
SUMMARY:Mora Library
DESCRIPTION:Join Brian for a presentation of his special slide show STRIDEâ
 €™S DULUTH\,  profiling real-life places in the Northland that have been fe
 atured in his thrillers. Youâ€™ll never look at Duluth the same way again! 
 Be sure to pick up a signed copy of his newest thriller THE NIGHT BIRD\,  a
 nd[..]\nhttps://bfreemanbooks.com/events/mora-library/
URL:https://bfreemanbooks.com/events/mora-library/
END:VEVENT
END:VCALENDAR