BEGIN:VCALENDAR
VERSION:2.0
PRODID:-//eventon.com NONSGML v1.0//EN
CALSCALE:GREGORIAN
METHOD:PUBLISH
BEGIN:VEVENT
UID:69e7579d5dc57
DTSTAMP:20260421T105525Z
DTSTART:20170211T150000Z
DTEND:20170211T170000Z
LOCATION:Bookstore at Fitger&#039;s 600 E Superior St\,  Duluth\,  MN 55802
SUMMARY:Bookstore at Fitger's
DESCRIPTION:Join Brian in Duluth at the Bookstore at Fitger&#8217;s as he i
 ntroduces his all-new thriller THE NIGHT BIRD and talks about his detective
  hero Frost Easton\,  the book’s San Francisco setting\,  and the power o
 f terrifying memories.  Can’t make the event?  Call the store to reserv
 e your signed copy in[..]\nhttps://bfreemanbooks.com/events/bookstore-at-fi
 tgers-2/
URL:https://bfreemanbooks.com/events/bookstore-at-fitgers-2/
END:VEVENT
END:VCALENDAR